BEGIN:VCALENDAR
VERSION:2.0
PRODID:-//Popenzo - ECPv6.15.12.2//NONSGML v1.0//EN
CALSCALE:GREGORIAN
METHOD:PUBLISH
X-ORIGINAL-URL:https://popenzo.nl
X-WR-CALDESC:Evenementen voor Popenzo
REFRESH-INTERVAL;VALUE=DURATION:PT1H
X-Robots-Tag:noindex
X-PUBLISHED-TTL:PT1H
BEGIN:VTIMEZONE
TZID:UTC
BEGIN:STANDARD
TZOFFSETFROM:+0000
TZOFFSETTO:+0000
TZNAME:UTC
DTSTART:20250101T000000
END:STANDARD
END:VTIMEZONE
BEGIN:VEVENT
DTSTART;VALUE=DATE:20260606
DTEND;VALUE=DATE:20260607
DTSTAMP:20260420T233655
CREATED:20251217T122236Z
LAST-MODIFIED:20260227T174004Z
UID:402-1780704000-1780790399@popenzo.nl
SUMMARY:Amusing 2026
DESCRIPTION:POPenzo treedt vandaag op tijdens het gratis evenement “Amusing: korendag Hengelo”
URL:https://popenzo.nl/event/amusant-2026/
LOCATION:Binnenstad Hengelo
END:VEVENT
END:VCALENDAR