BEGIN:VCALENDAR
VERSION:2.0
PRODID:-//Popenzo - ECPv6.15.12.2//NONSGML v1.0//EN
CALSCALE:GREGORIAN
METHOD:PUBLISH
X-WR-CALNAME:Popenzo
X-ORIGINAL-URL:https://popenzo.nl
X-WR-CALDESC:Evenementen voor Popenzo
REFRESH-INTERVAL;VALUE=DURATION:PT1H
X-Robots-Tag:noindex
X-PUBLISHED-TTL:PT1H
BEGIN:VTIMEZONE
TZID:UTC
BEGIN:STANDARD
TZOFFSETFROM:+0000
TZOFFSETTO:+0000
TZNAME:UTC
DTSTART:20180101T000000
END:STANDARD
END:VTIMEZONE
BEGIN:VEVENT
DTSTART;TZID=UTC:20260214T200000
DTEND;TZID=UTC:20260214T223000
DTSTAMP:20260421T011822
CREATED:20251217T121735Z
LAST-MODIFIED:20251217T121735Z
UID:399-1771099200-1771108200@popenzo.nl
SUMMARY:Tweekoren concert: Double Fun
DESCRIPTION:Op zaterdag 14 februari 2026 bundelen Popkoor Wiezz en Popkoor POPenzo hun krachten voor een spetterend optreden: DOUBLE FUN! \nVerwacht een avond vol energie\, herkenbare hits en heerlijke koorklanken onder leiding van onze dirigent Alex Leenders. \n📍 Kulturhus Borne\n🕗 Aanvang: 20:00 uur\n🎟️ Kaartjes: €12\,50 (inclusief pauzedrankje) \nMis deze muzikale Valentijnsavond niet! \nNeem je partner\, vrienden of familie mee en beleef DOUBLE FUN met ons!  \nKaartjes zijn te bestellen via het Kulturhus Borne
URL:https://popenzo.nl/event/tweekoren-concert-double-fun/
LOCATION:Kulturhus Borne\, Marktstraat 23\, Borne
END:VEVENT
BEGIN:VEVENT
DTSTART;TZID=UTC:20250405T193000
DTEND;TZID=UTC:20250405T213000
DTSTAMP:20260421T011822
CREATED:20240602T185249Z
LAST-MODIFIED:20240602T185249Z
UID:382-1743881400-1743888600@popenzo.nl
SUMMARY:4 Korenconcert HKK
DESCRIPTION:Op deze bijzondere avond vol muziek zal POPenzo 1 van de 4 koren zijn die u kunt beluisteren.
URL:https://popenzo.nl/event/4-korenconcert-hkk/
LOCATION:Kristalkerk
END:VEVENT
BEGIN:VEVENT
DTSTART;TZID=UTC:20241105T190000
DTEND;TZID=UTC:20241105T200000
DTSTAMP:20260421T011822
CREATED:20240602T185109Z
LAST-MODIFIED:20240602T185109Z
UID:380-1730833200-1730836800@popenzo.nl
SUMMARY:Lichtjesavond Oosterbegraafplaats
DESCRIPTION:Op deze avond kunt u samen met familie en vrienden een kaars branden als mooie herinnering aan uw dierbare. De begraafplaats is die avond sfeervol verlicht met fakkels en op een centrale plek worden teksten gesproken en klinkt er muziek. U hoeft zich niet aan te melden en er zijn verder geen kosten aan verbonden. Iedereen is van harte welkom!
URL:https://popenzo.nl/event/lichtjesavond-oosterbegraafplaats/
LOCATION:Oosterbegraafplaats\, Noord Esmarker rondweg 407\, Enschede\, Nederland
END:VEVENT
BEGIN:VEVENT
DTSTART;TZID=UTC:20240915T120000
DTEND;TZID=UTC:20240915T170000
DTSTAMP:20260421T011822
CREATED:20240602T184951Z
LAST-MODIFIED:20240602T184951Z
UID:377-1726401600-1726419600@popenzo.nl
SUMMARY:Cultureel straatfestival Delden
DESCRIPTION:Het Cultureel Straatfestival is het leukste uitje voor jong en oud in het gezellige centrum van Delden. Het centrum wordt op zondag 15 september weer gevuld met straattheater\, muziek\, zang\, dans en een boeken- en kunstmarkt en dit jaar is ook nog het leukste koor van Hengelo aanwezig ????\nKomen jullie ook?\nHoe laat en waar wij precies zingen\, geven we later door\, maar blok vast je agenda!\nDe toegang tot alle programma-onderdelen is gratis.\nCentrum van Delden\nLangestraat en omgeving
URL:https://popenzo.nl/event/cultureel-straatfestival-delden/
LOCATION:Centrum Delden
END:VEVENT
BEGIN:VEVENT
DTSTART;TZID=UTC:20240618T200000
DTEND;TZID=UTC:20240618T220000
DTSTAMP:20260421T011822
CREATED:20240602T172819Z
LAST-MODIFIED:20240602T172819Z
UID:363-1718740800-1718748000@popenzo.nl
SUMMARY:Open repetitie
DESCRIPTION:Benieuwd hoe een POPenzo repetitie er uit ziet en overweeg je om bij ons aan te sluiten? Kom dan 18 juni naar onze open repetitie en proef de sfeer\, hoor de klanken\, kijk toe of zing wat mee en maak er vooral een leuke avond van! Wij kijken uit naar jouw komst!
URL:https://popenzo.nl/event/open-repetitie/
LOCATION:Buurtcentrum ‘de Tempel’\, Booggang 2\, Hengelo\, Nederland
END:VEVENT
BEGIN:VEVENT
DTSTART;TZID=UTC:20240601T150000
DTEND;TZID=UTC:20240601T153000
DTSTAMP:20260421T011822
CREATED:20240602T172429Z
LAST-MODIFIED:20240602T172429Z
UID:359-1717254000-1717255800@popenzo.nl
SUMMARY:Amusing
DESCRIPTION:
URL:https://popenzo.nl/event/amusing-3/
LOCATION:Podium 11 Twee Wezen
END:VEVENT
BEGIN:VEVENT
DTSTART;TZID=UTC:20240601T123000
DTEND;TZID=UTC:20240601T130000
DTSTAMP:20260421T011822
CREATED:20240602T172253Z
LAST-MODIFIED:20240602T172253Z
UID:357-1717245000-1717246800@popenzo.nl
SUMMARY:Amusing
DESCRIPTION:
URL:https://popenzo.nl/event/amusing-2/
LOCATION:Schouwburg Hengelo\, Beursstraat 44\, Hengelo\, Overijssel\, 7551HV\, Nederland
END:VEVENT
BEGIN:VEVENT
DTSTART;VALUE=DATE:20231014
DTEND;VALUE=DATE:20231015
DTSTAMP:20260421T011822
CREATED:20240602T185613Z
LAST-MODIFIED:20240602T185613Z
UID:387-1697241600-1697327999@popenzo.nl
SUMMARY:Korendag Prismare
DESCRIPTION:
URL:https://popenzo.nl/event/korendag-prismare-2/
LOCATION:Theater Prismare\, Roomweg 167d\, Enschede\, 7523BM
END:VEVENT
BEGIN:VEVENT
DTSTART;VALUE=DATE:20230603
DTEND;VALUE=DATE:20230604
DTSTAMP:20260421T011822
CREATED:20240602T185503Z
LAST-MODIFIED:20240602T185503Z
UID:385-1685750400-1685836799@popenzo.nl
SUMMARY:Amusing
DESCRIPTION:
URL:https://popenzo.nl/event/amusing-5/
END:VEVENT
BEGIN:VEVENT
DTSTART;TZID=UTC:20230416T143000
DTEND;TZID=UTC:20230416T153000
DTSTAMP:20260421T011822
CREATED:20240602T173710Z
LAST-MODIFIED:20240602T173710Z
UID:374-1681655400-1681659000@popenzo.nl
SUMMARY:POPenzo@opening marktplein
DESCRIPTION:
URL:https://popenzo.nl/event/popenzoopening-marktplein/
END:VEVENT
BEGIN:VEVENT
DTSTART;TZID=UTC:20230115T143000
DTEND;TZID=UTC:20230115T170000
DTSTAMP:20260421T011822
CREATED:20221227T195413Z
LAST-MODIFIED:20221227T195413Z
UID:335-1673793000-1673802000@popenzo.nl
SUMMARY:Hengelo PROMS23
DESCRIPTION:Na het succes van Stork 150 jaar – De PROMS presenteert de Federatie Amateur-kunst Hengelo nu HENGELO PROMS23. De samenwerkende koepels van Hengelose amateurverenigingen voor muziek\, zang\, podium- en beeldende kunsten\, verenigd in de Federatie Amateurkunst Hengelo\, staan garant voor twee sfeervolle\, feestelijke PROMS-concerten met prachtige muziek en zang om het nieuwe jaar in te luiden. Klassiek\, jazz\, pop en evergreen ontmoeten elkaar met als thema: ‘Van donker naar licht’. \nMet onder meer: muziekvereniging Armonia\, het Twents Jeugd Harmonieorkest\, POPenzo\, het Koninklijk Hengelo’s Mannenkoor\, sopraan Claudia Patacca en bariton Jeroen Sanders. Tevens is de veelzijdige jazz-trompettist Anne-Marie ten Heggeler van de partij. Dit Hengelose talent is o.a. verbonden aan de Dutch Concert Big Band  en het JazzArt Orchestra. Daarnaast levert stadsdichter Wouter Munsterman een verrassende bijdrage. Het totale programma staat onder regie van Carole van Ruitenbeek.
URL:https://popenzo.nl/event/hengelo-proms23-2/
LOCATION:Schouwburg Hengelo\, Beursstraat 44\, Hengelo\, Overijssel\, 7551HV\, Nederland
END:VEVENT
BEGIN:VEVENT
DTSTART;TZID=UTC:20230114T200000
DTEND;TZID=UTC:20230114T223000
DTSTAMP:20260421T011822
CREATED:20221227T194816Z
LAST-MODIFIED:20221227T194816Z
UID:331-1673726400-1673735400@popenzo.nl
SUMMARY:Hengelo PROMS23
DESCRIPTION:Na het succes van Stork 150 jaar – De PROMS presenteert de Federatie Amateur-kunst Hengelo nu HENGELO PROMS23. De samenwerkende koepels van Hengelose amateurverenigingen voor muziek\, zang\, podium- en beeldende kunsten\, verenigd in de Federatie Amateurkunst Hengelo\, staan garant voor twee sfeervolle\, feestelijke PROMS-concerten met prachtige muziek en zang om het nieuwe jaar in te luiden. Klassiek\, jazz\, pop en evergreen ontmoeten elkaar met als thema: ‘Van donker naar licht’. \nMet onder meer: muziekvereniging Armonia\, het Twents Jeugd Harmonieorkest\, POPenzo\, het Koninklijk Hengelo’s Mannenkoor\, sopraan Claudia Patacca en bariton Jeroen Sanders. Tevens is de veelzijdige jazz-trompettist Anne-Marie ten Heggeler van de partij. Dit Hengelose talent is o.a. verbonden aan de Dutch Concert Big Band  en het JazzArt Orchestra. Daarnaast levert stadsdichter Wouter Munsterman een verrassende bijdrage. Het totale programma staat onder regie van Carole van Ruitenbeek.
URL:https://popenzo.nl/event/hengelo-proms23/
LOCATION:Schouwburg Hengelo\, Beursstraat 44\, Hengelo\, Overijssel\, 7551HV\, Nederland
END:VEVENT
BEGIN:VEVENT
DTSTART;TZID=UTC:20221101T190000
DTEND;TZID=UTC:20221101T203000
DTSTAMP:20260421T011822
CREATED:20240602T173557Z
LAST-MODIFIED:20240602T173557Z
UID:371-1667329200-1667334600@popenzo.nl
SUMMARY:Lichtjesavond Oosterbegraafplaats Enschede
DESCRIPTION:
URL:https://popenzo.nl/event/lichtjesavond-oosterbegraafplaats-enschede/
END:VEVENT
BEGIN:VEVENT
DTSTART;VALUE=DATE:20221029
DTEND;VALUE=DATE:20221030
DTSTAMP:20260421T011822
CREATED:20240602T173439Z
LAST-MODIFIED:20240602T173439Z
UID:369-1667001600-1667087999@popenzo.nl
SUMMARY:POPenzo@Prismare
DESCRIPTION:Korendag Prismare Enschede
URL:https://popenzo.nl/event/popenzoprismare/
END:VEVENT
BEGIN:VEVENT
DTSTART;VALUE=DATE:20220611
DTEND;VALUE=DATE:20220612
DTSTAMP:20260421T011822
CREATED:20240602T173336Z
LAST-MODIFIED:20240602T173336Z
UID:367-1654905600-1654991999@popenzo.nl
SUMMARY:Amusing
DESCRIPTION:
URL:https://popenzo.nl/event/amusing-4/
END:VEVENT
BEGIN:VEVENT
DTSTART;TZID=UTC:20200606T110000
DTEND;TZID=UTC:20200606T180000
DTSTAMP:20260421T011822
CREATED:20200228T155021Z
LAST-MODIFIED:20200228T155021Z
UID:279-1591441200-1591466400@popenzo.nl
SUMMARY:Amusing
DESCRIPTION:Ook dit jaar doet POPenzo natuurlijk weer mee aan het jaarlijks terugkerende evenement ‘Amusing Hengelo’. De 15e editie al weer en gegarandeerd het leukste feestje van het jaar! \nInfo over op welke tijden en podia je het POPenzo feestje kunt verwachten volgt later!
URL:https://popenzo.nl/event/amusing/
LOCATION:Binnenstad Hengelo
END:VEVENT
BEGIN:VEVENT
DTSTART;TZID=UTC:20191130T140000
DTEND;TZID=UTC:20191130T170000
DTSTAMP:20260421T011822
CREATED:20190902T200748Z
LAST-MODIFIED:20190902T200748Z
UID:248-1575122400-1575133200@popenzo.nl
SUMMARY:Tuincentrum Borghuis
DESCRIPTION:POPenzo zingt zaterdagmiddag 30 november voor de klanten van Tuincentrum Borghuis in Deurningen.
URL:https://popenzo.nl/event/tuincentrum-borghuis/
LOCATION:Tuincentrum Borghuis\, Vliegveldstraat 2\, Deurningen\, 7561 AT
END:VEVENT
BEGIN:VEVENT
DTSTART;TZID=UTC:20191101T190000
DTEND;TZID=UTC:20191101T200000
DTSTAMP:20260421T011822
CREATED:20191028T214658Z
LAST-MODIFIED:20191028T214658Z
UID:273-1572634800-1572638400@popenzo.nl
SUMMARY:Herdenkingsavond Oosterbegraafplaats
DESCRIPTION:Op deze avond kunt u samen met familie en vrienden een kaars branden als mooie herinnering aan uw dierbare. De begraafplaats is die avond sfeervol verlicht met fakkels en op een centrale plek worden teksten gesproken en klinkt er muziek. Ook wordt u een warm drankje aangeboden. U hoeft zich niet aan te melden en er zijn verder gene kosten aan verbonden. Iedereen is van harte welkom!
URL:https://popenzo.nl/event/herdenkingsavond-oosterbegraafplaats/
LOCATION:Oosterbegraafplaats\, Noord Esmarker rondweg 407\, Enschede\, Nederland
END:VEVENT
BEGIN:VEVENT
DTSTART;TZID=UTC:20191012T113000
DTEND;TZID=UTC:20191012T143000
DTSTAMP:20260421T011822
CREATED:20190315T111557Z
LAST-MODIFIED:20190315T111557Z
UID:131-1570879800-1570890600@popenzo.nl
SUMMARY:POPenzo@Winkelcentrum Hasselo
DESCRIPTION:Dat Winkelcentrum Hasselo graag haar klanten vrolijk laat winkelen blijkt wel uit de vele activiteiten die zij organiseren. Op 12 oktober mogen wij voor de tweede keer dit jaar het publiek gaan toezingen en drie keer een optreden verzorgen.
URL:https://popenzo.nl/event/popenzowinkelcentrum-hasselo-2/
LOCATION:Winkelcentrum Hasselo\, Willen van Otterloostraat\, Hengelo
END:VEVENT
BEGIN:VEVENT
DTSTART;TZID=UTC:20190921T120000
DTEND;TZID=UTC:20190921T170000
DTSTAMP:20260421T011822
CREATED:20190902T200008Z
LAST-MODIFIED:20190902T200025Z
UID:245-1569067200-1569085200@popenzo.nl
SUMMARY:Korendag Prismare
DESCRIPTION:POPenzo zingt om 13.55 uur tijdens de korendag van Prismare.
URL:https://popenzo.nl/event/korendag-prismare/
LOCATION:Theater Prismare\, Roomweg 167d\, Enschede\, 7523BM
END:VEVENT
BEGIN:VEVENT
DTSTART;TZID=UTC:20190906T180000
DTEND;TZID=UTC:20190907T180000
DTSTAMP:20260421T011822
CREATED:20190315T110616Z
LAST-MODIFIED:20190315T110616Z
UID:128-1567792800-1567879200@popenzo.nl
SUMMARY:Samenloop voor Hoop Hengelo
DESCRIPTION:Dit jaar gaat POPenzo een  muzikale bijdrage leveren aan het bijzondere 24 uurs evenement\, de Samenloop voor Hoop Hengelo. Twee jaar geleden hebben wij dit evenement gesteund door 24 te lopen en geld in te zamelen\, dit keer gaan wij zingen voor de lopers en aanwezige bezoekers. \nOp vrijdagavond 6 september om 22 uur een blokje POPenzo\, zoals de meeste mensen ons kennen. Rond 23 uur een ingetogen blok rondom de indrukwekkende kaarsenceremonie\, waarbij wij hopen dat onze klanken steun kunnen bieden aan hen die komen herdenken. \nWij vinden het een eer dat wij hier aan mogen bijdragen!
URL:https://popenzo.nl/event/samenloop-voor-hoop-hengelo/
LOCATION:FBK stadion\, Kuipersdijk 46\, Hengelo
END:VEVENT
BEGIN:VEVENT
DTSTART;TZID=UTC:20190706T130000
DTEND;TZID=UTC:20190706T153000
DTSTAMP:20260421T011822
CREATED:20190315T105909Z
LAST-MODIFIED:20190701T221950Z
UID:126-1562418000-1562427000@popenzo.nl
SUMMARY:POPenzo @ Wijkfeest Hasseler Es
DESCRIPTION:POPenzo is uitgenodigd om 3 keer een optreden te verzorgen tijdens de Wijkdag Hasseler Es. Wijkdag Hasseler Es staat elk jaar garant voor een hoop gezelligheid\, leuke kraampjes\, muziek en plezier. \nDit jaar staat het thema “Sport\, Spel en Bewegen” centraal. Dat houdt in dat er dus gedanst moet worden tijdens onze songs :-). \nDe wijkdag begint om 11 uur. \nPopenzo verzorgt sets om 13 uur\, 14 uur en 15 uur.
URL:https://popenzo.nl/event/popenzo-wijkfeest-hasseler-es/
LOCATION:Winkelcentrum Hasselo\, Willen van Otterloostraat\, Hengelo
END:VEVENT
BEGIN:VEVENT
DTSTART;TZID=UTC:20190608T100000
DTEND;TZID=UTC:20190608T170000
DTSTAMP:20260421T011822
CREATED:20190123T165632Z
LAST-MODIFIED:20190123T165632Z
UID:99-1559988000-1560013200@popenzo.nl
SUMMARY:Amusing Hengelo
DESCRIPTION:POPenzo neemt net als elk jaar deel aan korenfestival Amusing Hengelo. De gezelligste en muzikaalste zaterdag van het jaar!
URL:https://popenzo.nl/event/amusing-hengelo/
LOCATION:Binnenstad Hengelo
END:VEVENT
BEGIN:VEVENT
DTSTART;TZID=UTC:20190511T113000
DTEND;TZID=UTC:20190511T143000
DTSTAMP:20260421T011822
CREATED:20190315T105715Z
LAST-MODIFIED:20190315T105715Z
UID:123-1557574200-1557585000@popenzo.nl
SUMMARY:POPenzo@Winkelcentrum Hasselo
DESCRIPTION:Dat Winkelcentrum Hasselo graag haar klanten vrolijk laat winkelen blijkt wel uit de vele activiteiten die zij organiseren. Op 11 mei mogen wij het publiek gaan toezingen en drie keer een optreden verzorgen.
URL:https://popenzo.nl/event/popenzowinkelcentrum-hasselo/
LOCATION:Winkelcentrum Hasselo\, Willen van Otterloostraat\, Hengelo
END:VEVENT
END:VCALENDAR